BEGIN:VCALENDAR
VERSION:2.0
PRODID:Events Booking
BEGIN:VEVENT
UID:69e4dcf56854b
SUMMARY:Watergames speedbåd - Aalborg - HOLD-2
DESCRIPTION:
LOCATION:Vestre Fjordvej\, 9000 Aalborg\, Danmark
DTSTART:20260419T123000Z
DTEND:20260419T143000Z
DTSTAMP:20260416T184319Z
ORGANIZER;CN=Danish Yacht Union:MAILTO:administration@danishyachtunion.dk
GEO:57.055769;9.89247
X-APPLE-STRUCTURED-LOCATION;VALUE=URI;X-ADDRESS=Vestre Fjordvej\, 9000 Aalb
 org\, Danmark;X-APPLE-RADIUS=72;X-TITLE=Watergames Aalborg:57.055769;9.892
 47
END:VEVENT
END:VCALENDAR