BEGIN:VCALENDAR
VERSION:2.0
PRODID:Events Booking
BEGIN:VEVENT
UID:69e4de500ffb5
SUMMARY:Sejlerkort.dk - Fredericia
DESCRIPTION:
LOCATION:Sanddal Bakke 20\, Sandal\, 7000 Region of Southern Denmark\, Denm
 ark
DTSTART:20260426T100000Z
DTEND:20260426T120000Z
DTSTAMP:20251209T133243Z
ORGANIZER;CN=Danish Yacht Union:MAILTO:administration@danishyachtunion.dk
GEO:55.552494;9.727211
X-APPLE-STRUCTURED-LOCATION;VALUE=URI;X-ADDRESS=Sanddal Bakke 20\, Sandal\,
  7000 Region of Southern Denmark\, Denmark;X-APPLE-RADIUS=72;X-TITLE=Frede
 ricia Sanddal Bakke 20:55.552494;9.727211
END:VEVENT
END:VCALENDAR